BEGIN:VCALENDAR
VERSION:2.0
PRODID:-//hacksw/handcal//NONSGML v1.0//EN
CALSCALE:GREGORIAN
BEGIN:VEVENT
ORGANIZER;CN=Voltalia:MAILTO:no-reply@gcs-web.com
DTEND:
UID:aa424b69-1af8-4b11-a75f-5fd90dcb4a07
DTSTAMP:1776871507
LOCATION:http://voltalia.gcs-web.com/events/event-details/q3-2026-turnover-after-market-close
DESCRIPTION:Event Details http://voltalia.gcs-web.com/events/event-details/q3-2026-turnover-after-market-close
URL;VALUE=URI:http://voltalia.gcs-web.com/events/event-details/q3-2026-turnover-after-market-close
SUMMARY:Voltalia - Q3 2026 turnover (after market close)
DTSTART:20261022T040000Z
END:VEVENT
END:VCALENDAR